BEGIN:VCALENDAR
VERSION:2.0
PRODID:-//eventon.com NONSGML v1.0//EN
CALSCALE:GREGORIAN
METHOD:PUBLISH
BEGIN:VEVENT
UID:69e4f248a4122
DTSTAMP:20260419T151832Z
DTSTART:20260608
DTEND:20260609
LOCATION:Sala Amfiteatru a Institului Național de Statistică
SUMMARY:Energy Strategy Summit 2026
DESCRIPTION:Energy Strategy Summit 2026 reunește cei mai influenți factor
 i de decizie din sectorul energetic românesc într-un moment decisiv: atun
 ci când strategiile sunt puse la încercare prin punerea lor în practică
 . În cadrul unui summit axat pe execuție\,  ne pregătim pentru două zil
 e de dezbateri la nivel înalt pe teme precum:[..]\nhttps://www.fpe.ro/even
 t/energy-strategy-summit-2026/
URL:https://www.fpe.ro/event/energy-strategy-summit-2026/
END:VEVENT
END:VCALENDAR