BEGIN:VCALENDAR
VERSION:2.0
PRODID:-//eventon.com NONSGML v1.0//EN
CALSCALE:GREGORIAN
METHOD:PUBLISH
BEGIN:VEVENT
UID:69e60612d9421
DTSTAMP:20260420T105514Z
DTSTART:20260224
DTEND:20260225
LOCATION:Amsterdam\,  Netherlands - Van der Valk Hotel Schiphol\,  Rijksweg A4 nr. 3\,  2132 MA Hoofddorp
SUMMARY:Methane Mitigation Europe Summit 2026
DESCRIPTION:Summitul european Methane Mitigation Europe 2026 este mai mult 
 decât o conferință – reprezintă principalul punct de întâlnire pent
 ru actorii din industria petrolului și gazelor responsabili de implementar
 ea Regulamentului UE privind metanul\,  una dintre cele mai ambițioase pol
 itici climatice adoptate la nivel global. Organizat înaintea termenelor es
 ențiale de conformare din[..]\nhttps://www.fpe.ro/en/event/methane-mitigat
 ion-europe-summit-2026/
URL:https://www.fpe.ro/en/event/methane-mitigation-europe-summit-2026/
END:VEVENT
END:VCALENDAR